BEGIN:VCALENDAR
VERSION:2.0
PRODID:-//jEvents 2.0 for Joomla//EN
CALSCALE:GREGORIAN
METHOD:PUBLISH
BEGIN:VEVENT
UID:FA215FA56EDBD3885C859843FC314772
CATEGORIES:1. Mannschaft
CREATED:20250722T065353
SUMMARY:DJK Saarbruecken-Rastpfuhl vs. TTG Werbeln
LOCATION:Schulturnhalle Knappenroth Im Knappenroth 66113 Saarbruecken
DESCRIPTION:Vorrunde
DTSTAMP:20260422T084333
DTSTART:20251115T170000
DTEND:20251115T200000
SEQUENCE:0
TRANSP:OPAQUE
END:VEVENT
END:VCALENDAR